Package: animalcules Version: 1.22.0 Command: /Library/Frameworks/R.framework/Resources/bin/R CMD check --install=check:animalcules.install-out.txt --library=/Library/Frameworks/R.framework/Resources/library --no-vignettes --timings animalcules_1.22.0.tar.gz StartedAt: 2025-02-03 23:37:58 -0500 (Mon, 03 Feb 2025) EndedAt: 2025-02-03 23:48:32 -0500 (Mon, 03 Feb 2025) EllapsedTime: 633.8 seconds RetCode: 1 Status: ERROR CheckDir: animalcules.Rcheck Warnings: NA