Package: animalcules Version: 1.22.0 Command: /Library/Frameworks/R.framework/Resources/bin/R CMD INSTALL animalcules StartedAt: 2025-02-03 16:30:08 -0500 (Mon, 03 Feb 2025) EndedAt: 2025-02-03 16:31:19 -0500 (Mon, 03 Feb 2025) EllapsedTime: 70.6 seconds RetCode: 0 Status: OK