Package: animalcules
Version: 1.22.0
Command: /home/biocbuild/bbs-3.20-bioc/R/bin/R CMD build --keep-empty-dirs --no-resave-data --md5 animalcules
StartedAt: 2025-02-17 16:11:21 -0500 (Mon, 17 Feb 2025)
EndedAt: 2025-02-17 16:12:23 -0500 (Mon, 17 Feb 2025)
EllapsedTime: 62.1 seconds
RetCode: 0
Status: OK
PackageFile: animalcules_1.22.0.tar.gz
PackageFileSize: 3.395 <A href="http://en.wikipedia.org/wiki/MiB" target="_blank">MiB</A>