Package: animalcules Version: 1.22.0 Command: rm -rf animalcules.buildbin-libdir && mkdir animalcules.buildbin-libdir && F:\biocbuild\bbs-3.20-bioc\R\bin\R.exe CMD INSTALL --build --library=animalcules.buildbin-libdir animalcules_1.22.0.tar.gz StartedAt: 2025-02-04 07:57:49 -0500 (Tue, 04 Feb 2025) EndedAt: 2025-02-04 07:58:53 -0500 (Tue, 04 Feb 2025) EllapsedTime: 64.0 seconds RetCode: 0 Status: OK PackageFile: animalcules_1.22.0.zip PackageFileSize: 3.33 MiB