Package: animalcules Version: 1.22.0 Command: chmod a+r animalcules -R && F:\biocbuild\bbs-3.20-bioc\R\bin\R.exe CMD build --keep-empty-dirs --no-resave-data animalcules StartedAt: 2025-02-03 17:28:33 -0500 (Mon, 03 Feb 2025) EndedAt: 2025-02-03 17:30:26 -0500 (Mon, 03 Feb 2025) EllapsedTime: 113.1 seconds RetCode: 0 Status: OK PackageFile: animalcules_1.22.0.tar.gz PackageFileSize: 3.162 MiB