Package: animalcules
Version: 1.22.0
Command: F:\biocbuild\bbs-3.20-bioc\R\bin\R.exe CMD INSTALL animalcules
StartedAt: 2025-02-17 16:44:37 -0500 (Mon, 17 Feb 2025)
EndedAt: 2025-02-17 16:45:43 -0500 (Mon, 17 Feb 2025)
EllapsedTime: 65.9 seconds
RetCode: 0
Status: OK