Package: annaffy Version: 1.78.0 Command: /Library/Frameworks/R.framework/Resources/bin/R CMD build --keep-empty-dirs --no-resave-data annaffy StartedAt: 2025-02-03 17:02:07 -0500 (Mon, 03 Feb 2025) EndedAt: 2025-02-03 17:03:45 -0500 (Mon, 03 Feb 2025) EllapsedTime: 97.5 seconds RetCode: 0 Status: OK PackageFile: annaffy_1.78.0.tar.gz PackageFileSize: 315.1 KiB