Package: annaffy Version: 1.78.0 Command: /Library/Frameworks/R.framework/Resources/bin/R CMD check --install=check:annaffy.install-out.txt --library=/Library/Frameworks/R.framework/Resources/library --no-vignettes --timings annaffy_1.78.0.tar.gz StartedAt: 2025-02-03 23:39:37 -0500 (Mon, 03 Feb 2025) EndedAt: 2025-02-03 23:44:13 -0500 (Mon, 03 Feb 2025) EllapsedTime: 275.9 seconds RetCode: 0 Status: WARNINGS CheckDir: annaffy.Rcheck Warnings: 1