Package: annaffy Version: 1.78.0 Command: /home/biocbuild/R/R/bin/R CMD build --keep-empty-dirs --no-resave-data annaffy StartedAt: 2025-02-03 21:35:28 -0000 (Mon, 03 Feb 2025) EndedAt: 2025-02-03 21:36:04 -0000 (Mon, 03 Feb 2025) EllapsedTime: 36.0 seconds RetCode: 0 Status: OK PackageFile: annaffy_1.78.0.tar.gz PackageFileSize: 308.5 KiB