Package: annaffy Version: 1.78.0 Command: /home/biocbuild/R/R/bin/R CMD check --install=check:annaffy.install-out.txt --library=/home/biocbuild/R/R/site-library --no-vignettes --timings annaffy_1.78.0.tar.gz StartedAt: 2025-02-04 04:18:32 -0000 (Tue, 04 Feb 2025) EndedAt: 2025-02-04 04:21:40 -0000 (Tue, 04 Feb 2025) EllapsedTime: 188.4 seconds RetCode: 0 Status: WARNINGS CheckDir: annaffy.Rcheck Warnings: 1