Package: annaffy Version: 1.78.0 Command: /home/biocbuild/R/R/bin/R CMD INSTALL annaffy StartedAt: 2025-02-17 20:34:33 -0000 (Mon, 17 Feb 2025) EndedAt: 2025-02-17 20:34:54 -0000 (Mon, 17 Feb 2025) EllapsedTime: 21.1 seconds RetCode: 0 Status: OK