Package: annmap Version: 1.48.0 Command: /Library/Frameworks/R.framework/Resources/bin/R CMD build --keep-empty-dirs --no-resave-data annmap StartedAt: 2025-01-30 17:05:43 -0500 (Thu, 30 Jan 2025) EndedAt: 2025-01-30 17:07:30 -0500 (Thu, 30 Jan 2025) EllapsedTime: 107.0 seconds RetCode: 0 Status: OK PackageFile: annmap_1.48.0.tar.gz PackageFileSize: 1.005 MiB