Package: annmap Version: 1.48.0 Command: /Library/Frameworks/R.framework/Resources/bin/R CMD check --install=check:annmap.install-out.txt --library=/Library/Frameworks/R.framework/Resources/library --no-vignettes --timings annmap_1.48.0.tar.gz StartedAt: 2025-01-31 00:09:37 -0500 (Fri, 31 Jan 2025) EndedAt: 2025-01-31 00:15:25 -0500 (Fri, 31 Jan 2025) EllapsedTime: 347.7 seconds RetCode: 0 Status: WARNINGS CheckDir: annmap.Rcheck Warnings: 1