Package: annmap Version: 1.48.0 Command: /Library/Frameworks/R.framework/Resources/bin/R CMD INSTALL annmap StartedAt: 2025-01-30 16:18:49 -0500 (Thu, 30 Jan 2025) EndedAt: 2025-01-30 16:19:45 -0500 (Thu, 30 Jan 2025) EllapsedTime: 56.4 seconds RetCode: 0 Status: OK