Package: annmap Version: 1.48.0 Command: /home/biocbuild/R/R/bin/R CMD INSTALL annmap StartedAt: 2025-02-17 21:02:34 -0000 (Mon, 17 Feb 2025) EndedAt: 2025-02-17 21:03:03 -0000 (Mon, 17 Feb 2025) EllapsedTime: 28.9 seconds RetCode: 0 Status: OK