Package: annotate Version: 1.84.0 Command: /Library/Frameworks/R.framework/Resources/bin/R CMD check --install=check:annotate.install-out.txt --library=/Library/Frameworks/R.framework/Resources/library --no-vignettes --timings annotate_1.84.0.tar.gz StartedAt: 2025-02-04 11:15:57 -0500 (Tue, 04 Feb 2025) EndedAt: 2025-02-04 11:19:21 -0500 (Tue, 04 Feb 2025) EllapsedTime: 204.4 seconds RetCode: 0 Status: OK CheckDir: annotate.Rcheck Warnings: 0