Package: annotate Version: 1.84.0 Command: /Library/Frameworks/R.framework/Resources/bin/R CMD INSTALL annotate StartedAt: 2025-02-03 15:40:39 -0500 (Mon, 03 Feb 2025) EndedAt: 2025-02-03 15:40:48 -0500 (Mon, 03 Feb 2025) EllapsedTime: 9.5 seconds RetCode: 0 Status: OK