Package: annotate Version: 1.84.0 Command: rm -rf annotate.buildbin-libdir && mkdir annotate.buildbin-libdir && F:\biocbuild\bbs-3.20-bioc\R\bin\R.exe CMD INSTALL --build --library=annotate.buildbin-libdir annotate_1.84.0.tar.gz StartedAt: 2025-01-31 08:08:27 -0500 (Fri, 31 Jan 2025) EndedAt: 2025-01-31 08:09:41 -0500 (Fri, 31 Jan 2025) EllapsedTime: 74.2 seconds RetCode: 0 Status: OK PackageFile: annotate_1.84.0.zip PackageFileSize: 1.991 MiB