Package: annotate Version: 1.84.0 Command: F:\biocbuild\bbs-3.20-bioc\R\bin\R.exe CMD INSTALL annotate StartedAt: 2025-02-03 15:58:57 -0500 (Mon, 03 Feb 2025) EndedAt: 2025-02-03 16:00:14 -0500 (Mon, 03 Feb 2025) EllapsedTime: 77.0 seconds RetCode: 0 Status: OK