Package: annotationTools Version: 1.80.0 Command: /home/biocbuild/R/R/bin/R CMD build --keep-empty-dirs --no-resave-data annotationTools StartedAt: 2025-02-03 21:36:20 -0000 (Mon, 03 Feb 2025) EndedAt: 2025-02-03 21:36:29 -0000 (Mon, 03 Feb 2025) EllapsedTime: 9.0 seconds RetCode: 0 Status: OK PackageFile: annotationTools_1.80.0.tar.gz PackageFileSize: 326.7 KiB