Package: annotatr Version: 1.32.0 Command: /Library/Frameworks/R.framework/Resources/bin/R CMD build --keep-empty-dirs --no-resave-data annotatr StartedAt: 2025-02-03 17:03:40 -0500 (Mon, 03 Feb 2025) EndedAt: 2025-02-03 17:08:07 -0500 (Mon, 03 Feb 2025) EllapsedTime: 266.1 seconds RetCode: 0 Status: OK PackageFile: annotatr_1.32.0.tar.gz PackageFileSize: 2.449 MiB