Package: annotatr Version: 1.32.0 Command: /Library/Frameworks/R.framework/Resources/bin/R CMD check --install=check:annotatr.install-out.txt --library=/Library/Frameworks/R.framework/Resources/library --no-vignettes --timings annotatr_1.32.0.tar.gz StartedAt: 2025-02-03 23:42:10 -0500 (Mon, 03 Feb 2025) EndedAt: 2025-02-03 23:53:56 -0500 (Mon, 03 Feb 2025) EllapsedTime: 705.6 seconds RetCode: 0 Status: OK CheckDir: annotatr.Rcheck Warnings: 0