Package: annotatr Version: 1.32.0 Command: /Library/Frameworks/R.framework/Resources/bin/R CMD INSTALL annotatr StartedAt: 2025-02-03 15:46:44 -0500 (Mon, 03 Feb 2025) EndedAt: 2025-02-03 15:48:08 -0500 (Mon, 03 Feb 2025) EllapsedTime: 84.4 seconds RetCode: 0 Status: OK