Package: annotatr Version: 1.32.0 Command: /home/biocbuild/bbs-3.20-bioc/R/bin/R CMD check --install=check:annotatr.install-out.txt --library=/home/biocbuild/bbs-3.20-bioc/R/site-library --timings annotatr_1.32.0.tar.gz StartedAt: 2025-02-10 19:55:46 -0500 (Mon, 10 Feb 2025) EndedAt: 2025-02-10 20:02:22 -0500 (Mon, 10 Feb 2025) EllapsedTime: 395.6 seconds RetCode: 0 Status: OK CheckDir: annotatr.Rcheck Warnings: 0