Package: annotatr Version: 1.32.0 Command: rm -rf annotatr.buildbin-libdir && mkdir annotatr.buildbin-libdir && F:\biocbuild\bbs-3.20-bioc\R\bin\R.exe CMD INSTALL --build --library=annotatr.buildbin-libdir annotatr_1.32.0.tar.gz StartedAt: 2025-02-04 07:58:04 -0500 (Tue, 04 Feb 2025) EndedAt: 2025-02-04 07:59:11 -0500 (Tue, 04 Feb 2025) EllapsedTime: 67.1 seconds RetCode: 0 Status: OK PackageFile: annotatr_1.32.0.zip PackageFileSize: 2.22 MiB