Package: annotatr Version: 1.32.0 Command: /home/biocbuild/R/R/bin/R CMD build --keep-empty-dirs --no-resave-data annotatr StartedAt: 2025-02-03 21:36:29 -0000 (Mon, 03 Feb 2025) EndedAt: 2025-02-03 21:39:00 -0000 (Mon, 03 Feb 2025) EllapsedTime: 151.1 seconds RetCode: 0 Status: OK PackageFile: annotatr_1.32.0.tar.gz PackageFileSize: 2.096 MiB