Package: annotatr Version: 1.32.0 Command: /home/biocbuild/R/R/bin/R CMD check --install=check:annotatr.install-out.txt --library=/home/biocbuild/R/R/site-library --no-vignettes --timings annotatr_1.32.0.tar.gz StartedAt: 2025-02-04 04:21:06 -0000 (Tue, 04 Feb 2025) EndedAt: 2025-02-04 04:30:41 -0000 (Tue, 04 Feb 2025) EllapsedTime: 575.5 seconds RetCode: 0 Status: OK CheckDir: annotatr.Rcheck Warnings: 0