Package: anota Version: 1.54.0 Command: /Library/Frameworks/R.framework/Resources/bin/R CMD build --keep-empty-dirs --no-resave-data anota StartedAt: 2025-02-03 18:41:17 -0500 (Mon, 03 Feb 2025) EndedAt: 2025-02-03 18:41:49 -0500 (Mon, 03 Feb 2025) EllapsedTime: 32.0 seconds RetCode: 0 Status: OK PackageFile: anota_1.54.0.tar.gz PackageFileSize: 943.3 KiB