Package: anota Version: 1.54.0 Command: rm -rf anota.buildbin-libdir && mkdir anota.buildbin-libdir && /Users/biocbuild/BBS/utils/build-universal.sh anota_1.54.0.tar.gz /Library/Frameworks/R.framework/Resources/bin/R anota.buildbin-libdir StartedAt: 2025-02-04 12:27:40 -0500 (Tue, 04 Feb 2025) EndedAt: 2025-02-04 12:28:02 -0500 (Tue, 04 Feb 2025) EllapsedTime: 22.4 seconds RetCode: 0 Status: OK PackageFile: anota_1.54.0.tgz PackageFileSize: 712.9 KiB