Package: anota Version: 1.54.0 Command: /home/biocbuild/R/R/bin/R CMD check --install=check:anota.install-out.txt --library=/home/biocbuild/R/R/site-library --no-vignettes --timings anota_1.54.0.tar.gz StartedAt: 2025-02-04 04:21:29 -0000 (Tue, 04 Feb 2025) EndedAt: 2025-02-04 04:23:20 -0000 (Tue, 04 Feb 2025) EllapsedTime: 111.3 seconds RetCode: 0 Status: OK CheckDir: anota.Rcheck Warnings: 0