Package: anota Version: 1.54.0 Command: /home/biocbuild/R/R/bin/R CMD INSTALL anota StartedAt: 2025-02-03 21:09:40 -0000 (Mon, 03 Feb 2025) EndedAt: 2025-02-03 21:09:51 -0000 (Mon, 03 Feb 2025) EllapsedTime: 11.9 seconds RetCode: 0 Status: OK