Package: anota2seq Version: 1.28.0 Command: /Library/Frameworks/R.framework/Resources/bin/R CMD build --keep-empty-dirs --no-resave-data anota2seq StartedAt: 2025-02-03 18:41:49 -0500 (Mon, 03 Feb 2025) EndedAt: 2025-02-03 18:44:23 -0500 (Mon, 03 Feb 2025) EllapsedTime: 154.9 seconds RetCode: 0 Status: OK PackageFile: anota2seq_1.28.0.tar.gz PackageFileSize: 971.9 KiB