Package: anota2seq Version: 1.28.0 Command: /Library/Frameworks/R.framework/Resources/bin/R CMD check --install=check:anota2seq.install-out.txt --library=/Library/Frameworks/R.framework/Resources/library --no-vignettes --timings anota2seq_1.28.0.tar.gz StartedAt: 2025-02-03 23:42:47 -0500 (Mon, 03 Feb 2025) EndedAt: 2025-02-03 23:53:10 -0500 (Mon, 03 Feb 2025) EllapsedTime: 622.6 seconds RetCode: 0 Status: OK CheckDir: anota2seq.Rcheck Warnings: 0