Package: anota2seq Version: 1.28.0 Command: /home/biocbuild/bbs-3.20-bioc/R/bin/R CMD build --keep-empty-dirs --no-resave-data --md5 anota2seq StartedAt: 2025-02-10 16:13:08 -0500 (Mon, 10 Feb 2025) EndedAt: 2025-02-10 16:15:27 -0500 (Mon, 10 Feb 2025) EllapsedTime: 139.2 seconds RetCode: 0 Status: OK PackageFile: anota2seq_1.28.0.tar.gz PackageFileSize: 1.005 MiB