Package: anota2seq Version: 1.28.0 Command: /home/biocbuild/bbs-3.20-bioc/R/bin/R CMD INSTALL anota2seq StartedAt: 2025-02-10 15:50:47 -0500 (Mon, 10 Feb 2025) EndedAt: 2025-02-10 15:51:15 -0500 (Mon, 10 Feb 2025) EllapsedTime: 28.1 seconds RetCode: 0 Status: OK