Package: anota2seq Version: 1.28.0 Command: rm -rf anota2seq.buildbin-libdir && mkdir anota2seq.buildbin-libdir && F:\biocbuild\bbs-3.20-bioc\R\bin\R.exe CMD INSTALL --build --library=anota2seq.buildbin-libdir anota2seq_1.28.0.tar.gz StartedAt: 2025-02-04 07:58:08 -0500 (Tue, 04 Feb 2025) EndedAt: 2025-02-04 07:59:15 -0500 (Tue, 04 Feb 2025) EllapsedTime: 66.3 seconds RetCode: 0 Status: OK PackageFile: anota2seq_1.28.0.zip PackageFileSize: 1.556 MiB