Package: anota2seq Version: 1.28.0 Command: /home/biocbuild/R/R/bin/R CMD build --keep-empty-dirs --no-resave-data anota2seq StartedAt: 2025-02-03 21:36:52 -0000 (Mon, 03 Feb 2025) EndedAt: 2025-02-03 21:40:18 -0000 (Mon, 03 Feb 2025) EllapsedTime: 206.1 seconds RetCode: 0 Status: OK PackageFile: anota2seq_1.28.0.tar.gz PackageFileSize: 999.1 KiB