Package: anota2seq Version: 1.28.0 Command: /home/biocbuild/R/R/bin/R CMD check --install=check:anota2seq.install-out.txt --library=/home/biocbuild/R/R/site-library --no-vignettes --timings anota2seq_1.28.0.tar.gz StartedAt: 2025-02-04 04:21:38 -0000 (Tue, 04 Feb 2025) EndedAt: 2025-02-04 04:28:44 -0000 (Tue, 04 Feb 2025) EllapsedTime: 426.1 seconds RetCode: 0 Status: OK CheckDir: anota2seq.Rcheck Warnings: 0