Package: anota2seq Version: 1.28.0 Command: /home/biocbuild/R/R/bin/R CMD INSTALL anota2seq StartedAt: 2025-02-03 21:09:35 -0000 (Mon, 03 Feb 2025) EndedAt: 2025-02-03 21:10:13 -0000 (Mon, 03 Feb 2025) EllapsedTime: 38.7 seconds RetCode: 0 Status: OK