Package: antiProfiles
Version: 1.46.0
Command: /Library/Frameworks/R.framework/Resources/bin/R CMD check --install=check:antiProfiles.install-out.txt --library=/Library/Frameworks/R.framework/Resources/library --no-vignettes --timings antiProfiles_1.46.0.tar.gz
StartedAt: 2024-11-19 19:29:08 -0500 (Tue, 19 Nov 2024)
EndedAt: 2024-11-19 19:33:15 -0500 (Tue, 19 Nov 2024)
EllapsedTime: 246.4 seconds
RetCode: 0
Status: OK
CheckDir: antiProfiles.Rcheck
Warnings: 0