Package: antiProfiles
Version: 1.46.0
Command: /Library/Frameworks/R.framework/Resources/bin/R CMD INSTALL antiProfiles
StartedAt: 2024-11-19 15:05:42 -0500 (Tue, 19 Nov 2024)
EndedAt: 2024-11-19 15:06:06 -0500 (Tue, 19 Nov 2024)
EllapsedTime: 23.7 seconds
RetCode: 0
Status: OK