Package: antiProfiles Version: 1.46.0 Command: rm -rf antiProfiles.buildbin-libdir && mkdir antiProfiles.buildbin-libdir && /Users/biocbuild/BBS/utils/build-universal.sh antiProfiles_1.46.0.tar.gz /Library/Frameworks/R.framework/Resources/bin/R antiProfiles.buildbin-libdir StartedAt: 2025-02-04 12:27:47 -0500 (Tue, 04 Feb 2025) EndedAt: 2025-02-04 12:27:55 -0500 (Tue, 04 Feb 2025) EllapsedTime: 7.6 seconds RetCode: 0 Status: OK PackageFile: antiProfiles_1.46.0.tgz PackageFileSize: 270.4 KiB