Package: antiProfiles
Version: 1.45.0
Command: C:\Users\biocbuild\bbs-3.20-bioc\R\bin\R.exe CMD INSTALL antiProfiles
StartedAt: 2024-07-15 15:18:37 -0400 (Mon, 15 Jul 2024)
EndedAt: 2024-07-15 15:18:54 -0400 (Mon, 15 Jul 2024)
EllapsedTime: 17.3 seconds
RetCode: 0
Status: OK