Package: antiProfiles Version: 1.46.0 Command: /home/biocbuild/R/R/bin/R CMD build --keep-empty-dirs --no-resave-data antiProfiles StartedAt: 2025-02-03 21:36:52 -0000 (Mon, 03 Feb 2025) EndedAt: 2025-02-03 21:36:59 -0000 (Mon, 03 Feb 2025) EllapsedTime: 7.0 seconds RetCode: 0 Status: OK PackageFile: antiProfiles_1.46.0.tar.gz PackageFileSize: 106.7 KiB