Package: apComplex Version: 2.72.0 Command: rm -rf apComplex.buildbin-libdir && mkdir apComplex.buildbin-libdir && /Users/biocbuild/BBS/utils/build-universal.sh apComplex_2.72.0.tar.gz /Library/Frameworks/R.framework/Resources/bin/R apComplex.buildbin-libdir StartedAt: 2025-02-05 14:48:48 -0500 (Wed, 05 Feb 2025) EndedAt: 2025-02-05 14:49:08 -0500 (Wed, 05 Feb 2025) EllapsedTime: 19.3 seconds RetCode: 0 Status: OK PackageFile: apComplex_2.72.0.tgz PackageFileSize: 684.9 KiB