Package: apComplex Version: 2.72.0 Command: /Library/Frameworks/R.framework/Resources/bin/R CMD build --keep-empty-dirs --no-resave-data apComplex StartedAt: 2025-02-03 17:04:47 -0500 (Mon, 03 Feb 2025) EndedAt: 2025-02-03 17:05:41 -0500 (Mon, 03 Feb 2025) EllapsedTime: 54.4 seconds RetCode: 0 Status: OK PackageFile: apComplex_2.72.0.tar.gz PackageFileSize: 627.2 KiB