Package: apComplex Version: 2.72.0 Command: /home/biocbuild/bbs-3.20-bioc/R/bin/R CMD INSTALL apComplex StartedAt: 2025-02-03 15:26:35 -0500 (Mon, 03 Feb 2025) EndedAt: 2025-02-03 15:26:48 -0500 (Mon, 03 Feb 2025) EllapsedTime: 12.9 seconds RetCode: 0 Status: OK