Package: appreci8R Version: 1.24.0 Command: /Library/Frameworks/R.framework/Resources/bin/R CMD build --keep-empty-dirs --no-resave-data appreci8R StartedAt: 2025-02-03 17:05:03 -0500 (Mon, 03 Feb 2025) EndedAt: 2025-02-03 17:10:57 -0500 (Mon, 03 Feb 2025) EllapsedTime: 354.3 seconds RetCode: 0 Status: OK PackageFile: appreci8R_1.24.0.tar.gz PackageFileSize: 1013 KiB