Package: appreci8R Version: 1.24.0 Command: /home/biocbuild/bbs-3.20-bioc/R/bin/R CMD build --keep-empty-dirs --no-resave-data --md5 appreci8R StartedAt: 2025-02-03 16:20:55 -0500 (Mon, 03 Feb 2025) EndedAt: 2025-02-03 16:23:51 -0500 (Mon, 03 Feb 2025) EllapsedTime: 176.1 seconds RetCode: 0 Status: OK PackageFile: appreci8R_1.24.0.tar.gz PackageFileSize: 1014 KiB