Package: arrayQuality Version: 1.84.0 Command: /Library/Frameworks/R.framework/Resources/bin/R CMD build --keep-empty-dirs --no-resave-data arrayQuality StartedAt: 2025-02-03 17:05:19 -0500 (Mon, 03 Feb 2025) EndedAt: 2025-02-03 17:05:37 -0500 (Mon, 03 Feb 2025) EllapsedTime: 18.2 seconds RetCode: 0 Status: OK PackageFile: arrayQuality_1.84.0.tar.gz PackageFileSize: 12.82 MiB